BEGIN:VCALENDAR
VERSION:2.0
PRODID:-//boysandgirlshomes.org//NONSGML kigkonsult.se iCalcreator 2.30.10/
 /
CALSCALE:GREGORIAN
METHOD:PUBLISH
UID:ef36bc46-5994-4cf4-ba0e-a48974156aa0
X-WR-CALDESC:Thomas Academy students and staff will be on spring break. Cla
 sses resume on April 12.
X-WR-RELCALID:a39d74aa85ae38f045d09b05acd70da4
X-WR-TIMEZONE:America/New_York
BEGIN:VTIMEZONE
TZID:America/New_York
BEGIN:STANDARD
TZNAME:EST
DTSTART:20201101T020000
TZOFFSETFROM:-0400
TZOFFSETTO:-0500
RDATE:20211107T020000
END:STANDARD
BEGIN:DAYLIGHT
TZNAME:EDT
DTSTART:20210314T020000
TZOFFSETFROM:-0500
TZOFFSETTO:-0400
RDATE:20220313T020000
END:DAYLIGHT
END:VTIMEZONE
BEGIN:VEVENT
UID:db71f259-9680-46bc-b1e5-a15c05a7565d
DTSTAMP:20260421T043021Z
DESCRIPTION:Thomas Academy students and staff will be on spring break. Clas
 ses resume on April 12.
DTSTART;TZID=America/New_York:20210402T000000
DTEND;TZID=America/New_York:20210409T235900
LOCATION:
SUMMARY:Thomas Academy Spring Break
END:VEVENT
END:VCALENDAR
