BEGIN:VCALENDAR
VERSION:2.0
PRODID:-//boysandgirlshomes.org//NONSGML kigkonsult.se iCalcreator 2.30.10/
 /
CALSCALE:GREGORIAN
METHOD:PUBLISH
UID:82e9d80e-8d9a-422d-8d59-8bca40765864
X-WR-CALDESC:The weekly worship service in the Leamon Rogers Memorial Chape
 l led by the B&GH Praise & Worship Team.
X-WR-RELCALID:926037c82e60894bb9e0c3a9c2a4a28c
X-WR-TIMEZONE:America/New_York
BEGIN:VTIMEZONE
TZID:America/New_York
BEGIN:STANDARD
TZNAME:EST
DTSTART:20201101T020000
TZOFFSETFROM:-0400
TZOFFSETTO:-0500
RDATE:20211107T020000
END:STANDARD
BEGIN:DAYLIGHT
TZNAME:EDT
DTSTART:20210314T020000
TZOFFSETFROM:-0500
TZOFFSETTO:-0400
RDATE:20220313T020000
END:DAYLIGHT
END:VTIMEZONE
BEGIN:VEVENT
UID:331caa8b-8bed-4d05-b7fc-0d2d95e82f3b
DTSTAMP:20260421T045047Z
DESCRIPTION:The weekly worship service in the Leamon Rogers Memorial Chapel
  led by the B&GH Praise & Worship Team.
DTSTART;TZID=America/New_York:20210403T093000
DTEND;TZID=America/New_York:20210403T110000
LOCATION:Leamon Rogers Memorial Chapel
SUMMARY:Worship Service
END:VEVENT
END:VCALENDAR
