BEGIN:VCALENDAR
VERSION:2.0
PRODID:-//boysandgirlshomes.org//NONSGML kigkonsult.se iCalcreator 2.30.10/
 /
CALSCALE:GREGORIAN
METHOD:PUBLISH
UID:4611c016-1275-46ba-9bbf-b14879bc329d
X-WR-CALDESC:Da Bomb Barrel Racing Series comes to the B&GH Farm & Benton/B
 TS Arena & Exhibition Center for a spring event.
X-WR-RELCALID:84026aa9a23464adbb1b6e6bbd030ca2
X-WR-TIMEZONE:America/New_York
BEGIN:VTIMEZONE
TZID:America/New_York
BEGIN:STANDARD
TZNAME:EST
DTSTART:20201101T020000
TZOFFSETFROM:-0400
TZOFFSETTO:-0500
RDATE:20211107T020000
END:STANDARD
BEGIN:DAYLIGHT
TZNAME:EDT
DTSTART:20210314T020000
TZOFFSETFROM:-0500
TZOFFSETTO:-0400
RDATE:20220313T020000
END:DAYLIGHT
END:VTIMEZONE
BEGIN:VEVENT
UID:f0a8a14b-ce1c-47ef-9774-9875acb6373c
DTSTAMP:20260421T043928Z
DESCRIPTION:Da Bomb Barrel Racing Series comes to the B&GH Farm & Benton/BT
 S Arena & Exhibition Center for a spring event.
DTSTART;TZID=America/New_York:20210409T000000
DTEND;TZID=America/New_York:20210411T235900
LOCATION:B&GH Farm & Benton/BTS Arena & Exhibition Center
SUMMARY:Da Bomb Barrel Race
END:VEVENT
END:VCALENDAR
