BEGIN:VCALENDAR
VERSION:2.0
PRODID:-//boysandgirlshomes.org//NONSGML kigkonsult.se iCalcreator 2.30.10/
 /
CALSCALE:GREGORIAN
METHOD:PUBLISH
UID:94b0e517-8441-4e11-9224-0c35b2b4609d
X-WR-CALDESC:The Thomas Academy Board will meet to discuss the educational 
 policies\, procedures and needs of the children and staff at the public ch
 arter school.
X-WR-RELCALID:55f027522e924a8f184b9ef3bbdc150e
X-WR-TIMEZONE:America/New_York
BEGIN:VTIMEZONE
TZID:America/New_York
BEGIN:STANDARD
TZNAME:EST
DTSTART:20201101T020000
TZOFFSETFROM:-0400
TZOFFSETTO:-0500
RDATE:20211107T020000
END:STANDARD
BEGIN:DAYLIGHT
TZNAME:EDT
DTSTART:20210314T020000
TZOFFSETFROM:-0500
TZOFFSETTO:-0400
RDATE:20220313T020000
END:DAYLIGHT
END:VTIMEZONE
BEGIN:VEVENT
UID:28868e83-e685-4323-8016-dad636f01713
DTSTAMP:20260421T045627Z
DESCRIPTION:The Thomas Academy Board will meet to discuss the educational p
 olicies\, procedures and needs of the children and staff at the public cha
 rter school.
DTSTART;TZID=America/New_York:20210413T150000
DTEND;TZID=America/New_York:20210413T160000
LOCATION:
SUMMARY:Thomas Academy Board Meeting
END:VEVENT
END:VCALENDAR
