BEGIN:VCALENDAR
VERSION:2.0
PRODID:-//boysandgirlshomes.org//NONSGML kigkonsult.se iCalcreator 2.30.10/
 /
CALSCALE:GREGORIAN
METHOD:PUBLISH
UID:54a447a5-dfc1-4322-a984-f2cf20d4ee24
X-WR-CALDESC:This is a tribute to the American Horsewoman! All lady colt st
 arting competition with six of the finest trainers in the country! Clinici
 an demos daily\, 2015 Breyer Horse of the Year will be on site for photos.
  A thrilling entertainment show Saturday night with Arabian horses in cost
 ume\, trick riding\, freestyles and more! Ultimate Trail Challenge\, Food 
 Trucks\, Vendors\, and more! Kids 16 and under get in free.
X-WR-RELCALID:a7d855b4dd3469c7497b1cdac6f29ac4
X-WR-TIMEZONE:America/New_York
BEGIN:VTIMEZONE
TZID:America/New_York
BEGIN:STANDARD
TZNAME:EST
DTSTART:20201101T020000
TZOFFSETFROM:-0400
TZOFFSETTO:-0500
RDATE:20211107T020000
END:STANDARD
BEGIN:DAYLIGHT
TZNAME:EDT
DTSTART:20210314T020000
TZOFFSETFROM:-0500
TZOFFSETTO:-0400
RDATE:20220313T020000
END:DAYLIGHT
END:VTIMEZONE
BEGIN:VEVENT
UID:4e91c3c3-9958-4b33-8f47-b06187db0e86
DTSTAMP:20260421T044656Z
DESCRIPTION:This is a tribute to the American Horsewoman! All lady colt sta
 rting competition with six of the finest trainers in the country! Clinicia
 n demos daily\, 2015 Breyer Horse of the Year will be on site for photos. 
 A thrilling entertainment show Saturday night with Arabian horses in costu
 me\, trick riding\, freestyles and more! Ultimate Trail Challenge\, Food T
 rucks\, Vendors\, and more! Kids 16 and under get in free.
DTSTART;TZID=America/New_York:20210416T000000
DTEND;TZID=America/New_York:20210418T235900
LOCATION:B&GH Farm & Benton/BTS Arena & Exhibition Center
SUMMARY:Everything Equine Expo
END:VEVENT
END:VCALENDAR
