BEGIN:VCALENDAR
VERSION:2.0
PRODID:-//boysandgirlshomes.org//NONSGML kigkonsult.se iCalcreator 2.30.10/
 /
CALSCALE:GREGORIAN
METHOD:PUBLISH
UID:8a6446dc-c986-46bc-a8a2-12c3bf9ca2eb
X-WR-CALDESC:Our Director of Community Engagement Dr. Mason Fuller Smith wi
 ll be in attendance for the virtual Civitan West District Meeting and avai
 lable to answer questions about B&GH.
X-WR-RELCALID:4b326ee82b5ce7ecb9a261b4d0e8482f
X-WR-TIMEZONE:America/New_York
BEGIN:VTIMEZONE
TZID:America/New_York
BEGIN:STANDARD
TZNAME:EST
DTSTART:20201101T020000
TZOFFSETFROM:-0400
TZOFFSETTO:-0500
RDATE:20211107T020000
END:STANDARD
BEGIN:DAYLIGHT
TZNAME:EDT
DTSTART:20210314T020000
TZOFFSETFROM:-0500
TZOFFSETTO:-0400
RDATE:20220313T020000
END:DAYLIGHT
END:VTIMEZONE
BEGIN:VEVENT
UID:790b68b6-7eeb-48ca-84bd-c2552718a83d
DTSTAMP:20260421T045851Z
DESCRIPTION:Our Director of Community Engagement Dr. Mason Fuller Smith wil
 l be in attendance for the virtual Civitan West District Meeting and avail
 able to answer questions about B&GH.
DTSTART;TZID=America/New_York:20210417T100000
DTEND;TZID=America/New_York:20210417T110000
LOCATION:Virtual
SUMMARY:Civitan West District Meeting
END:VEVENT
END:VCALENDAR
