BEGIN:VCALENDAR
VERSION:2.0
PRODID:-//boysandgirlshomes.org//NONSGML kigkonsult.se iCalcreator 2.30.10/
 /
CALSCALE:GREGORIAN
METHOD:PUBLISH
UID:b5dbfba8-3d83-4708-a71e-465a870334f6
X-WR-CALDESC:The Boys & Girls Homes Board of Trustees will gather to discus
 s the ongoing needs of the nonprofit organization.
X-WR-RELCALID:6bcf6bcc9b79b3a0923bbcdecff88a61
X-WR-TIMEZONE:America/New_York
BEGIN:VTIMEZONE
TZID:America/New_York
BEGIN:STANDARD
TZNAME:EST
DTSTART:20201101T020000
TZOFFSETFROM:-0400
TZOFFSETTO:-0500
RDATE:20211107T020000
END:STANDARD
BEGIN:DAYLIGHT
TZNAME:EDT
DTSTART:20210314T020000
TZOFFSETFROM:-0500
TZOFFSETTO:-0400
RDATE:20220313T020000
END:DAYLIGHT
END:VTIMEZONE
BEGIN:VEVENT
UID:0c9ff6fd-7656-4f12-aec5-b5b9c59c8222
DTSTAMP:20260421T044329Z
DESCRIPTION:The Boys & Girls Homes Board of Trustees will gather to discuss
  the ongoing needs of the nonprofit organization.
DTSTART;TZID=America/New_York:20210424T000000
DTEND;TZID=America/New_York:20210424T235900
LOCATION:
SUMMARY:B&GH Board Meeting
END:VEVENT
END:VCALENDAR
