BEGIN:VCALENDAR
VERSION:2.0
PRODID:-//boysandgirlshomes.org//NONSGML kigkonsult.se iCalcreator 2.30.10/
 /
CALSCALE:GREGORIAN
METHOD:PUBLISH
UID:05ead2e4-664f-4ba9-a03f-e4dd4e7cd043
X-WR-CALDESC:Our Kiwanis partners are returning to B&GH for a wonderful day
  of service. These volunteers will be working outside under socially dista
 nced conditions. Projects are campus wide and may include laying pine stra
 w\, raking and collecting twigs\, pressure washing\, weeding\, and more. W
 ear work cloths and sturdy closed-toe shoes. A brief health screening will
  occur before the event. Interaction with residents will not be possible. 
 Participants must pre-register and complete a waiver. A takeaway bag lunch
  will be provided by the campus at the end of the event. A meal choice sho
 uld be indicated on the registration form. A $6.00 donation is encouraged.
X-WR-RELCALID:25beb7b72609f1c20d12fe77d1c0f520
X-WR-TIMEZONE:America/New_York
BEGIN:VTIMEZONE
TZID:America/New_York
BEGIN:STANDARD
TZNAME:EST
DTSTART:20201101T020000
TZOFFSETFROM:-0400
TZOFFSETTO:-0500
RDATE:20211107T020000
END:STANDARD
BEGIN:DAYLIGHT
TZNAME:EDT
DTSTART:20210314T020000
TZOFFSETFROM:-0500
TZOFFSETTO:-0400
RDATE:20220313T020000
END:DAYLIGHT
END:VTIMEZONE
BEGIN:VEVENT
UID:3b2e31b9-811a-4b3c-9d61-30bf2d1c9b14
DTSTAMP:20260421T044422Z
DESCRIPTION:Our Kiwanis partners are returning to B&GH for a wonderful day 
 of service. These volunteers will be working outside under socially distan
 ced conditions. Projects are campus wide and may include laying pine straw
 \, raking and collecting twigs\, pressure washing\, weeding\, and more. We
 ar work cloths and sturdy closed-toe shoes. A brief health screening will 
 occur before the event. Interaction with residents will not be possible. P
 articipants must pre-register and complete a waiver. A takeaway bag lunch 
 will be provided by the campus at the end of the event. A meal choice shou
 ld be indicated on the registration form. A $6.00 donation is encouraged.
DTSTART;TZID=America/New_York:20210424T090000
DTEND;TZID=America/New_York:20210424T120000
LOCATION:400 Flemington Drive\, Lake Waccamaw\, NC 28450 US
SUMMARY:Kiwanis One Day
END:VEVENT
END:VCALENDAR
