BEGIN:VCALENDAR
VERSION:2.0
PRODID:-//boysandgirlshomes.org//NONSGML kigkonsult.se iCalcreator 2.30.10/
 /
CALSCALE:GREGORIAN
METHOD:PUBLISH
UID:998da706-edec-4877-add1-dc37b3b8516e
X-WR-CALDESC:Members of the media are invited to visit the Civitan Cottage 
 where the newly created Bright Hope program is housed
X-WR-RELCALID:9301d8b67451e28cce688f8a98d9467b
X-WR-TIMEZONE:America/New_York
BEGIN:VTIMEZONE
TZID:America/New_York
BEGIN:STANDARD
TZNAME:EST
DTSTART:20201101T020000
TZOFFSETFROM:-0400
TZOFFSETTO:-0500
RDATE:20211107T020000
END:STANDARD
BEGIN:DAYLIGHT
TZNAME:EDT
DTSTART:20210314T020000
TZOFFSETFROM:-0500
TZOFFSETTO:-0400
RDATE:20220313T020000
END:DAYLIGHT
END:VTIMEZONE
BEGIN:VEVENT
UID:9497f1c7-e6ea-48e1-9222-18ed6b80ee17
DTSTAMP:20260421T044127Z
DESCRIPTION:Members of the media are invited to visit the Civitan Cottage w
 here the newly created Bright Hope program is housed
DTSTART;TZID=America/New_York:20210430T100000
DTEND;TZID=America/New_York:20210430T140000
LOCATION:Civitan Cottage
SUMMARY:Bright Hope Media Day
END:VEVENT
END:VCALENDAR
