BEGIN:VCALENDAR
VERSION:2.0
PRODID:-//boysandgirlshomes.org//NONSGML kigkonsult.se iCalcreator 2.30.10/
 /
CALSCALE:GREGORIAN
METHOD:PUBLISH
UID:2f5f1737-2841-4094-82cf-c75b86efe0ca
X-WR-CALDESC:Qualified students from Thomas Academy will join staff on a fi
 eld trip to Jungle Rapids
X-WR-RELCALID:0d963bdb9828d7efaf065cca90f24e3e
X-WR-TIMEZONE:America/New_York
BEGIN:VTIMEZONE
TZID:America/New_York
BEGIN:STANDARD
TZNAME:EST
DTSTART:20201101T020000
TZOFFSETFROM:-0400
TZOFFSETTO:-0500
RDATE:20211107T020000
END:STANDARD
BEGIN:DAYLIGHT
TZNAME:EDT
DTSTART:20210314T020000
TZOFFSETFROM:-0500
TZOFFSETTO:-0400
RDATE:20220313T020000
END:DAYLIGHT
END:VTIMEZONE
BEGIN:VEVENT
UID:0aedb2ac-eb44-47e1-98c7-510d4bf45a28
DTSTAMP:20260421T044656Z
DESCRIPTION:Qualified students from Thomas Academy will join staff on a fie
 ld trip to Jungle Rapids
DTSTART;TZID=America/New_York:20210430T000000
DTEND;TZID=America/New_York:20210430T235900
LOCATION:
SUMMARY:TA End of School Field Trip
END:VEVENT
END:VCALENDAR
