BEGIN:VCALENDAR
VERSION:2.0
PRODID:-//boysandgirlshomes.org//NONSGML kigkonsult.se iCalcreator 2.30.10/
 /
CALSCALE:GREGORIAN
METHOD:PUBLISH
UID:5369af85-f0d6-40bb-bd62-b416f9588cfd
X-WR-CALDESC:The annual Lake Waccamaw Ride to benefit Boys & Girls Homes of
  North Carolina is an American Legion Chapter Challenge fundraising event.
  Primary sponsors for the event are the Calabash American Legion Riders an
 d Vass American Legion Riders. Cost varies by ride. Those interested in mo
 re information for the Calabash ride\, call Sterling Page at 910-209-1801.
  For more about the Vass ride\, contact Rora Kellis at 910-603-1218 or rmk
 ellis@live.com or visit the website https://www.ncpost296.com/lake-waccama
 w-ride.
X-WR-RELCALID:2282480cfc7b34aac2ad2301e9a81619
X-WR-TIMEZONE:America/New_York
BEGIN:VTIMEZONE
TZID:America/New_York
BEGIN:STANDARD
TZNAME:EST
DTSTART:20201101T020000
TZOFFSETFROM:-0400
TZOFFSETTO:-0500
RDATE:20211107T020000
END:STANDARD
BEGIN:DAYLIGHT
TZNAME:EDT
DTSTART:20210314T020000
TZOFFSETFROM:-0500
TZOFFSETTO:-0400
RDATE:20220313T020000
END:DAYLIGHT
END:VTIMEZONE
BEGIN:VEVENT
UID:ccded5b5-90f6-4eb1-89da-16f5d3e539e7
DTSTAMP:20260421T032201Z
DESCRIPTION:The annual Lake Waccamaw Ride to benefit Boys & Girls Homes of 
 North Carolina is an American Legion Chapter Challenge fundraising event. 
 Primary sponsors for the event are the Calabash American Legion Riders and
  Vass American Legion Riders. Cost varies by ride. Those interested in mor
 e information for the Calabash ride\, call Sterling Page at 910-209-1801. 
 For more about the Vass ride\, contact Rora Kellis at 910-603-1218 or rmke
 llis@live.com or visit the website https://www.ncpost296.com/lake-waccamaw
 -ride.
DTSTART;TZID=America/New_York:20210501T000000
DTEND;TZID=America/New_York:20210501T235900
LOCATION:
SUMMARY:2021 Lake Waccamaw Benefit Ride
END:VEVENT
END:VCALENDAR
