BEGIN:VCALENDAR
VERSION:2.0
PRODID:-//boysandgirlshomes.org//NONSGML kigkonsult.se iCalcreator 2.30.10/
 /
CALSCALE:GREGORIAN
METHOD:PUBLISH
UID:8501afba-b035-4bd8-96c5-10c2b591c3ec
X-WR-CALDESC:B&GH Director of Community Engagement Dr. Mason Fuller Smith w
 ill be in attendance for the Civitan East Virtual District Meeting.
X-WR-RELCALID:cae55b17a0244fc6dbe21af9ac0577d4
X-WR-TIMEZONE:America/New_York
BEGIN:VTIMEZONE
TZID:America/New_York
BEGIN:STANDARD
TZNAME:EST
DTSTART:20201101T020000
TZOFFSETFROM:-0400
TZOFFSETTO:-0500
RDATE:20211107T020000
END:STANDARD
BEGIN:DAYLIGHT
TZNAME:EDT
DTSTART:20210314T020000
TZOFFSETFROM:-0500
TZOFFSETTO:-0400
RDATE:20220313T020000
END:DAYLIGHT
END:VTIMEZONE
BEGIN:VEVENT
UID:d7c01894-4fc9-4ca0-818c-2d3ffc201c67
DTSTAMP:20260421T031223Z
DESCRIPTION:B&GH Director of Community Engagement Dr. Mason Fuller Smith wi
 ll be in attendance for the Civitan East Virtual District Meeting.
DTSTART;TZID=America/New_York:20210501T000000
DTEND;TZID=America/New_York:20210501T235900
LOCATION:
SUMMARY:Civitan East District Meeting
END:VEVENT
END:VCALENDAR
