BEGIN:VCALENDAR
VERSION:2.0
PRODID:-//boysandgirlshomes.org//NONSGML kigkonsult.se iCalcreator 2.30.10/
 /
CALSCALE:GREGORIAN
METHOD:PUBLISH
UID:da883643-024e-4c52-b72e-fb21b74f8995
X-WR-CALDESC:
X-WR-RELCALID:fdd67e23875b2d8c3164e2924bb379d7
X-WR-TIMEZONE:America/New_York
BEGIN:VTIMEZONE
TZID:America/New_York
BEGIN:STANDARD
TZNAME:EST
DTSTART:20201101T020000
TZOFFSETFROM:-0400
TZOFFSETTO:-0500
RDATE:20211107T020000
END:STANDARD
BEGIN:DAYLIGHT
TZNAME:EDT
DTSTART:20210314T020000
TZOFFSETFROM:-0500
TZOFFSETTO:-0400
RDATE:20220313T020000
END:DAYLIGHT
END:VTIMEZONE
BEGIN:VEVENT
UID:5c06ca97-698d-45d8-970e-398413a09e07
DTSTAMP:20260421T034929Z
DESCRIPTION:
DTSTART;TZID=America/New_York:20210501T000000
DTEND;TZID=America/New_York:20210502T235900
LOCATION:B&GH Farm & Benton/BTS Arena & Exhibition Center
SUMMARY:PPWHA NC Walking Horse Show
END:VEVENT
END:VCALENDAR
