BEGIN:VCALENDAR
VERSION:2.0
PRODID:-//boysandgirlshomes.org//NONSGML kigkonsult.se iCalcreator 2.30.10/
 /
CALSCALE:GREGORIAN
METHOD:PUBLISH
UID:cd03c448-ceff-44f1-a848-7f811adb9790
X-WR-CALDESC:Students and approved guests will enjoy the 2021 Thomas Academ
 y Prom in an outdoor setting\, following appropriate pandemic related acad
 emic event restrictions.
X-WR-RELCALID:1457c9a20d6fb3229faf37bc08ed293a
X-WR-TIMEZONE:America/New_York
BEGIN:VTIMEZONE
TZID:America/New_York
BEGIN:STANDARD
TZNAME:EST
DTSTART:20201101T020000
TZOFFSETFROM:-0400
TZOFFSETTO:-0500
RDATE:20211107T020000
END:STANDARD
BEGIN:DAYLIGHT
TZNAME:EDT
DTSTART:20210314T020000
TZOFFSETFROM:-0500
TZOFFSETTO:-0400
RDATE:20220313T020000
END:DAYLIGHT
END:VTIMEZONE
BEGIN:VEVENT
UID:07a62061-8cab-4cf7-8654-4d3f3629519e
DTSTAMP:20260421T030754Z
DESCRIPTION:Students and approved guests will enjoy the 2021 Thomas Academy
  Prom in an outdoor setting\, following appropriate pandemic related acade
 mic event restrictions.
DTSTART;TZID=America/New_York:20210506T183000
DTEND;TZID=America/New_York:20210506T220000
LOCATION:B&GH Farm & Benton/BTS Arena & Exhibition Center
SUMMARY:Thomas Academy Prom
END:VEVENT
END:VCALENDAR
