BEGIN:VCALENDAR
VERSION:2.0
PRODID:-//boysandgirlshomes.org//NONSGML kigkonsult.se iCalcreator 2.30.10/
 /
CALSCALE:GREGORIAN
METHOD:PUBLISH
UID:d7a92531-662a-4ec1-974e-a3208f4625cf
X-WR-CALDESC:The Thomas Academy Board will meet to discuss the needs of the
  students and staff of the public charter school.
X-WR-RELCALID:703c3d085d97d9d0a671543b1a44919b
X-WR-TIMEZONE:America/New_York
BEGIN:VTIMEZONE
TZID:America/New_York
BEGIN:STANDARD
TZNAME:EST
DTSTART:20201101T020000
TZOFFSETFROM:-0400
TZOFFSETTO:-0500
RDATE:20211107T020000
RDATE:20221106T020000
END:STANDARD
BEGIN:DAYLIGHT
TZNAME:EDT
DTSTART:20210314T020000
TZOFFSETFROM:-0500
TZOFFSETTO:-0400
RDATE:20220313T020000
END:DAYLIGHT
END:VTIMEZONE
BEGIN:VEVENT
UID:75056234-17f9-40f6-aab0-2b0aacaa3288
DTSTAMP:20260421T030907Z
DESCRIPTION:The Thomas Academy Board will meet to discuss the needs of the 
 students and staff of the public charter school.
DTSTART;TZID=America/New_York:20210511T150000
DTEND;TZID=America/New_York:20210511T160000
LOCATION:
SUMMARY:Thomas Academy Board Meeting
END:VEVENT
END:VCALENDAR
