BEGIN:VCALENDAR
VERSION:2.0
PRODID:-//boysandgirlshomes.org//NONSGML kigkonsult.se iCalcreator 2.30.10/
 /
CALSCALE:GREGORIAN
METHOD:PUBLISH
UID:0dff7c27-9e3f-4b90-8219-d9821a91b3d0
X-WR-CALDESC:
X-WR-RELCALID:b82b4296f6e31e83a7645a0ce052ebae
X-WR-TIMEZONE:America/New_York
BEGIN:VTIMEZONE
TZID:America/New_York
BEGIN:STANDARD
TZNAME:EST
DTSTART:20201101T020000
TZOFFSETFROM:-0400
TZOFFSETTO:-0500
RDATE:20211107T020000
RDATE:20221106T020000
END:STANDARD
BEGIN:DAYLIGHT
TZNAME:EDT
DTSTART:20210314T020000
TZOFFSETFROM:-0500
TZOFFSETTO:-0400
RDATE:20220313T020000
END:DAYLIGHT
END:VTIMEZONE
BEGIN:VEVENT
UID:ab9e5cb8-1901-4a69-bbd4-5958427c197a
DTSTAMP:20260421T031106Z
DESCRIPTION:
DTSTART;TZID=America/New_York:20210514T000000
DTEND;TZID=America/New_York:20210516T235900
LOCATION:B&GH Farm & Benton/BTS Arena & Exhibition Center
SUMMARY:4-H District Horse Show
END:VEVENT
END:VCALENDAR
