BEGIN:VCALENDAR
VERSION:2.0
PRODID:-//boysandgirlshomes.org//NONSGML kigkonsult.se iCalcreator 2.30.10/
 /
CALSCALE:GREGORIAN
METHOD:PUBLISH
UID:d3a93e88-1ec5-4b39-a92d-a0ceb42444df
X-WR-CALDESC:Those interested in becoming foster parents are required to at
 tend MAPP classes for certification.
X-WR-RELCALID:8a4ab861ad7a336ef584c544856284eb
X-WR-TIMEZONE:America/New_York
BEGIN:VTIMEZONE
TZID:America/New_York
BEGIN:STANDARD
TZNAME:EST
DTSTART:20201101T020000
TZOFFSETFROM:-0400
TZOFFSETTO:-0500
RDATE:20211107T020000
RDATE:20221106T020000
END:STANDARD
BEGIN:DAYLIGHT
TZNAME:EDT
DTSTART:20210314T020000
TZOFFSETFROM:-0500
TZOFFSETTO:-0400
RDATE:20220313T020000
END:DAYLIGHT
END:VTIMEZONE
BEGIN:VEVENT
UID:bcec036e-769f-40ea-add0-43459bd73238
DTSTAMP:20260421T032110Z
DESCRIPTION:Those interested in becoming foster parents are required to att
 end MAPP classes for certification.
DTSTART;TZID=America/New_York:20210518T180000
DTEND;TZID=America/New_York:20210518T210000
LOCATION:
SUMMARY:Foster Care MAPP Class
END:VEVENT
END:VCALENDAR
