BEGIN:VCALENDAR
VERSION:2.0
PRODID:-//boysandgirlshomes.org//NONSGML kigkonsult.se iCalcreator 2.30.10/
 /
CALSCALE:GREGORIAN
METHOD:PUBLISH
UID:a7b4bb93-3aaf-4ef6-91cb-a0883aafde2a
X-WR-CALDESC:Middle School students at Thomas Academy will be taking End of
  Grade tests
X-WR-RELCALID:76b3f6d36906c33419514944aaaad644
X-WR-TIMEZONE:America/New_York
BEGIN:VTIMEZONE
TZID:America/New_York
BEGIN:STANDARD
TZNAME:EST
DTSTART:20201101T020000
TZOFFSETFROM:-0400
TZOFFSETTO:-0500
RDATE:20211107T020000
RDATE:20221106T020000
END:STANDARD
BEGIN:DAYLIGHT
TZNAME:EDT
DTSTART:20210314T020000
TZOFFSETFROM:-0500
TZOFFSETTO:-0400
RDATE:20220313T020000
END:DAYLIGHT
END:VTIMEZONE
BEGIN:VEVENT
UID:eac62044-b4af-4790-bff6-f04310b62250
DTSTAMP:20260421T030539Z
DESCRIPTION:Middle School students at Thomas Academy will be taking End of 
 Grade tests
DTSTART;TZID=America/New_York:20210520T080000
DTEND;TZID=America/New_York:20210521T120000
LOCATION:
SUMMARY:Thomas Academy - Middle School Testing
END:VEVENT
END:VCALENDAR
