BEGIN:VCALENDAR
VERSION:2.0
PRODID:-//boysandgirlshomes.org//NONSGML kigkonsult.se iCalcreator 2.30.10/
 /
CALSCALE:GREGORIAN
METHOD:PUBLISH
UID:2717bab1-6c7d-43e5-98f3-9e9da253800e
X-WR-CALDESC:Thomas Academy 8th Graders will take the Science End of Grade 
 test.
X-WR-RELCALID:a06fe99b288251bba45bdf4f5bbd06af
X-WR-TIMEZONE:America/New_York
BEGIN:VTIMEZONE
TZID:America/New_York
BEGIN:STANDARD
TZNAME:EST
DTSTART:20201101T020000
TZOFFSETFROM:-0400
TZOFFSETTO:-0500
RDATE:20211107T020000
RDATE:20221106T020000
END:STANDARD
BEGIN:DAYLIGHT
TZNAME:EDT
DTSTART:20210314T020000
TZOFFSETFROM:-0500
TZOFFSETTO:-0400
RDATE:20220313T020000
END:DAYLIGHT
END:VTIMEZONE
BEGIN:VEVENT
UID:646d7a0f-c5ca-4522-8df6-d9350d4ff6e8
DTSTAMP:20260421T030657Z
DESCRIPTION:Thomas Academy 8th Graders will take the Science End of Grade t
 est.
DTSTART;TZID=America/New_York:20210524T000000
DTEND;TZID=America/New_York:20210524T235900
LOCATION:Thomas Academy
SUMMARY:Thomas Academy 8th Grade Science EOG
END:VEVENT
END:VCALENDAR
