BEGIN:VCALENDAR
VERSION:2.0
PRODID:-//boysandgirlshomes.org//NONSGML kigkonsult.se iCalcreator 2.30.10/
 /
CALSCALE:GREGORIAN
METHOD:PUBLISH
UID:041effb4-b082-4721-b0f3-b54ce3e6d83c
X-WR-CALDESC:Thomas Academy high school students will complete End Of Cours
 e testing
X-WR-RELCALID:b08a8834e19ae4324e45252764d3e733
X-WR-TIMEZONE:America/New_York
BEGIN:VTIMEZONE
TZID:America/New_York
BEGIN:STANDARD
TZNAME:EST
DTSTART:20201101T020000
TZOFFSETFROM:-0400
TZOFFSETTO:-0500
RDATE:20211107T020000
RDATE:20221106T020000
END:STANDARD
BEGIN:DAYLIGHT
TZNAME:EDT
DTSTART:20210314T020000
TZOFFSETFROM:-0500
TZOFFSETTO:-0400
RDATE:20220313T020000
END:DAYLIGHT
END:VTIMEZONE
BEGIN:VEVENT
UID:392ffec2-f933-4d6f-b930-9fb3fbcf5bd1
DTSTAMP:20260421T030605Z
DESCRIPTION:Thomas Academy high school students will complete End Of Course
  testing
DTSTART;TZID=America/New_York:20210527T080000
DTEND;TZID=America/New_York:20210528T143000
LOCATION:
SUMMARY:Thomas Academy Semester Testing
END:VEVENT
END:VCALENDAR
