BEGIN:VCALENDAR
VERSION:2.0
PRODID:-//boysandgirlshomes.org//NONSGML kigkonsult.se iCalcreator 2.30.10/
 /
CALSCALE:GREGORIAN
METHOD:PUBLISH
UID:36dc9c73-6cc1-4324-b6aa-8223b7aa248a
X-WR-CALDESC:
X-WR-RELCALID:8aeabcd3308983fb213d24830d968d37
X-WR-TIMEZONE:America/New_York
BEGIN:VTIMEZONE
TZID:America/New_York
BEGIN:STANDARD
TZNAME:EST
DTSTART:20201101T020000
TZOFFSETFROM:-0400
TZOFFSETTO:-0500
RDATE:20211107T020000
RDATE:20221106T020000
END:STANDARD
BEGIN:DAYLIGHT
TZNAME:EDT
DTSTART:20210314T020000
TZOFFSETFROM:-0500
TZOFFSETTO:-0400
RDATE:20220313T020000
END:DAYLIGHT
END:VTIMEZONE
BEGIN:VEVENT
UID:471bdd9e-9437-4504-bf97-fdcf2f20ef8f
DTSTAMP:20260421T030737Z
DESCRIPTION:
DTSTART;TZID=America/New_York:20210529T000000
DTEND;TZID=America/New_York:20210530T235900
LOCATION:B&GH Farm & Benton/BTS Arena & Exhibition Center
SUMMARY:Ultimate Trail Challenge
END:VEVENT
END:VCALENDAR
