BEGIN:VCALENDAR
VERSION:2.0
PRODID:-//boysandgirlshomes.org//NONSGML kigkonsult.se iCalcreator 2.30.10/
 /
CALSCALE:GREGORIAN
METHOD:PUBLISH
UID:b1ee7a18-0dc5-43fa-b969-0d4f05af1f29
X-WR-CALDESC:The 2021 Virtual Optimist Day will include a virtual tour of O
 ptimist Cottage\, the Lake House\, and Leamon Rogers Memorial Chapel. The 
 event will also include a performance by the B&GH Praise & Worship Team an
 d a message from new B&GH President/CEO Ricky Creech.
X-WR-RELCALID:9f8d5ed14811eb07f04c0f4990a42e99
X-WR-TIMEZONE:America/New_York
BEGIN:VTIMEZONE
TZID:America/New_York
BEGIN:STANDARD
TZNAME:EST
DTSTART:20201101T020000
TZOFFSETFROM:-0400
TZOFFSETTO:-0500
RDATE:20211107T020000
RDATE:20221106T020000
END:STANDARD
BEGIN:DAYLIGHT
TZNAME:EDT
DTSTART:20210314T020000
TZOFFSETFROM:-0500
TZOFFSETTO:-0400
RDATE:20220313T020000
END:DAYLIGHT
END:VTIMEZONE
BEGIN:VEVENT
UID:1c4ff210-fc59-4e6f-9adc-05755d2de8d8
DTSTAMP:20260421T030651Z
DESCRIPTION:The 2021 Virtual Optimist Day will include a virtual tour of Op
 timist Cottage\, the Lake House\, and Leamon Rogers Memorial Chapel. The e
 vent will also include a performance by the B&GH Praise & Worship Team and
  a message from new B&GH President/CEO Ricky Creech.
DTSTART;TZID=America/New_York:20210529T140000
DTEND;TZID=America/New_York:20210529T150000
LOCATION:
SUMMARY:Virtual Optimist Day
END:VEVENT
END:VCALENDAR
