BEGIN:VCALENDAR
VERSION:2.0
PRODID:-//boysandgirlshomes.org//NONSGML kigkonsult.se iCalcreator 2.30.10/
 /
CALSCALE:GREGORIAN
METHOD:PUBLISH
UID:377f76a4-304f-4dcf-aedc-323caeb0a4dd
X-WR-CALDESC:Administrative offices for Boys & Girls Homes and Thomas Acade
 my will be closed in observance of the Memorial Day Holiday.
X-WR-RELCALID:15b7b8eef67dac6a4144d4700d6b33aa
X-WR-TIMEZONE:America/New_York
BEGIN:VTIMEZONE
TZID:America/New_York
BEGIN:STANDARD
TZNAME:EST
DTSTART:20201101T020000
TZOFFSETFROM:-0400
TZOFFSETTO:-0500
RDATE:20211107T020000
RDATE:20221106T020000
END:STANDARD
BEGIN:DAYLIGHT
TZNAME:EDT
DTSTART:20210314T020000
TZOFFSETFROM:-0500
TZOFFSETTO:-0400
RDATE:20220313T020000
END:DAYLIGHT
END:VTIMEZONE
BEGIN:VEVENT
UID:732bb1ea-9132-497b-b8bd-615cf7932ce6
DTSTAMP:20260421T032201Z
DESCRIPTION:Administrative offices for Boys & Girls Homes and Thomas Academ
 y will be closed in observance of the Memorial Day Holiday.
DTSTART;TZID=America/New_York:20210531T000000
DTEND;TZID=America/New_York:20210531T235900
LOCATION:
SUMMARY:Memorial Day Holiday
END:VEVENT
END:VCALENDAR
