BEGIN:VCALENDAR
VERSION:2.0
PRODID:-//boysandgirlshomes.org//NONSGML kigkonsult.se iCalcreator 2.30.10/
 /
CALSCALE:GREGORIAN
METHOD:PUBLISH
UID:0c5d0af0-bc6a-4ecc-bb0e-6fd0140fb08d
X-WR-CALDESC:Thomas Academy High School Students in English 2 will take the
 ir EOC.
X-WR-RELCALID:9c286bf2082652cc4ee817bf01883fc6
X-WR-TIMEZONE:America/New_York
BEGIN:VTIMEZONE
TZID:America/New_York
BEGIN:STANDARD
TZNAME:EST
DTSTART:20201101T020000
TZOFFSETFROM:-0400
TZOFFSETTO:-0500
RDATE:20211107T020000
RDATE:20221106T020000
END:STANDARD
BEGIN:DAYLIGHT
TZNAME:EDT
DTSTART:20210314T020000
TZOFFSETFROM:-0500
TZOFFSETTO:-0400
RDATE:20220313T020000
END:DAYLIGHT
END:VTIMEZONE
BEGIN:VEVENT
UID:df256a62-335d-4254-8a72-ddf903e6b049
DTSTAMP:20260421T014224Z
DESCRIPTION:Thomas Academy High School Students in English 2 will take thei
 r EOC.
DTSTART;TZID=America/New_York:20210601T000000
DTEND;TZID=America/New_York:20210601T235900
LOCATION:
SUMMARY:Thomas Academy EOC Testing
END:VEVENT
END:VCALENDAR
