BEGIN:VCALENDAR
VERSION:2.0
PRODID:-//boysandgirlshomes.org//NONSGML kigkonsult.se iCalcreator 2.30.10/
 /
CALSCALE:GREGORIAN
METHOD:PUBLISH
UID:4fcb753e-0677-4b3e-bc06-1addfa6667db
X-WR-CALDESC:The Thomas Academy Class of 2021 will be celebrated at the 202
 1 Graduation Ceremony.
X-WR-RELCALID:fb52766e1331afa1f44d9af14f590600
X-WR-TIMEZONE:America/New_York
BEGIN:VTIMEZONE
TZID:America/New_York
BEGIN:STANDARD
TZNAME:EST
DTSTART:20201101T020000
TZOFFSETFROM:-0400
TZOFFSETTO:-0500
RDATE:20211107T020000
RDATE:20221106T020000
END:STANDARD
BEGIN:DAYLIGHT
TZNAME:EDT
DTSTART:20210314T020000
TZOFFSETFROM:-0500
TZOFFSETTO:-0400
RDATE:20220313T020000
END:DAYLIGHT
END:VTIMEZONE
BEGIN:VEVENT
UID:42937804-62c0-46c0-ad86-14502b852077
DTSTAMP:20260421T014355Z
DESCRIPTION:The Thomas Academy Class of 2021 will be celebrated at the 2021
  Graduation Ceremony.
DTSTART;TZID=America/New_York:20210605T100000
DTEND;TZID=America/New_York:20210605T123000
LOCATION:
SUMMARY:Thomas Academy Graduation
END:VEVENT
END:VCALENDAR
