BEGIN:VCALENDAR
VERSION:2.0
PRODID:-//boysandgirlshomes.org//NONSGML kigkonsult.se iCalcreator 2.30.10/
 /
CALSCALE:GREGORIAN
METHOD:PUBLISH
UID:cdf6a92b-aa97-46ed-bb64-6d8b82303057
X-WR-CALDESC:Students in need of additional instruction and remediation to 
 pass End of Grade and End of Course Testing will attend the Thomas Academy
  Summer School sessions.
X-WR-RELCALID:ab049b326343c1551836633446f76a62
X-WR-TIMEZONE:America/New_York
BEGIN:VTIMEZONE
TZID:America/New_York
BEGIN:STANDARD
TZNAME:EST
DTSTART:20201101T020000
TZOFFSETFROM:-0400
TZOFFSETTO:-0500
RDATE:20211107T020000
RDATE:20221106T020000
END:STANDARD
BEGIN:DAYLIGHT
TZNAME:EDT
DTSTART:20210314T020000
TZOFFSETFROM:-0500
TZOFFSETTO:-0400
RDATE:20220313T020000
END:DAYLIGHT
END:VTIMEZONE
BEGIN:VEVENT
UID:c26ec279-0bff-416d-9b19-c9d8088a9c1a
DTSTAMP:20260421T014356Z
DESCRIPTION:Students in need of additional instruction and remediation to p
 ass End of Grade and End of Course Testing will attend the Thomas Academy 
 Summer School sessions.
DTSTART;TZID=America/New_York:20210607T080000
DTEND;TZID=America/New_York:20210619T143000
LOCATION:
SUMMARY:Thomas Academy Summer School
END:VEVENT
END:VCALENDAR
