BEGIN:VCALENDAR
VERSION:2.0
PRODID:-//boysandgirlshomes.org//NONSGML kigkonsult.se iCalcreator 2.30.10/
 /
CALSCALE:GREGORIAN
METHOD:PUBLISH
UID:7b72f027-c4b3-4e0f-8fa0-e06da84bc8fe
X-WR-CALDESC:The Thomas Academy Board will meet to discuss any questions or
  concerns regarding the Thomas Academy educational experience.
X-WR-RELCALID:ba4113b4e75f16c2c6cbf8a882817352
X-WR-TIMEZONE:America/New_York
BEGIN:VTIMEZONE
TZID:America/New_York
BEGIN:STANDARD
TZNAME:EST
DTSTART:20201101T020000
TZOFFSETFROM:-0400
TZOFFSETTO:-0500
RDATE:20211107T020000
RDATE:20221106T020000
END:STANDARD
BEGIN:DAYLIGHT
TZNAME:EDT
DTSTART:20210314T020000
TZOFFSETFROM:-0500
TZOFFSETTO:-0400
RDATE:20220313T020000
END:DAYLIGHT
END:VTIMEZONE
BEGIN:VEVENT
UID:028295fe-946f-4f6a-b4cd-a99e9133d168
DTSTAMP:20260421T020543Z
DESCRIPTION:The Thomas Academy Board will meet to discuss any questions or 
 concerns regarding the Thomas Academy educational experience.
DTSTART;TZID=America/New_York:20210608T150000
DTEND;TZID=America/New_York:20210608T160000
LOCATION:
SUMMARY:Thomas Academy Board Meeting
END:VEVENT
END:VCALENDAR
