BEGIN:VCALENDAR
VERSION:2.0
PRODID:-//boysandgirlshomes.org//NONSGML kigkonsult.se iCalcreator 2.30.10/
 /
CALSCALE:GREGORIAN
METHOD:PUBLISH
UID:86a5b4b3-55bf-46c9-9880-54b64e15f90c
X-WR-CALDESC:The weekly worship service in the Leamon Rogers Memorial Chape
 l led by the B&GH Praise & Worship Team.
X-WR-RELCALID:8a9a0281c9d8d341fbf7525593d9b2c2
X-WR-TIMEZONE:America/New_York
BEGIN:VTIMEZONE
TZID:America/New_York
BEGIN:STANDARD
TZNAME:EST
DTSTART:20201101T020000
TZOFFSETFROM:-0400
TZOFFSETTO:-0500
RDATE:20211107T020000
RDATE:20221106T020000
END:STANDARD
BEGIN:DAYLIGHT
TZNAME:EDT
DTSTART:20210314T020000
TZOFFSETFROM:-0500
TZOFFSETTO:-0400
RDATE:20220313T020000
END:DAYLIGHT
END:VTIMEZONE
BEGIN:VEVENT
UID:3916f910-001d-44a4-a718-96e756df1ac0
DTSTAMP:20260421T015755Z
DESCRIPTION:The weekly worship service in the Leamon Rogers Memorial Chapel
  led by the B&GH Praise & Worship Team.
DTSTART;TZID=America/New_York:20210612T093000
DTEND;TZID=America/New_York:20210612T110000
LOCATION:Leamon Rogers Memorial Chapel
SUMMARY:Worship Service
END:VEVENT
END:VCALENDAR
