BEGIN:VCALENDAR
VERSION:2.0
PRODID:-//boysandgirlshomes.org//NONSGML kigkonsult.se iCalcreator 2.30.10/
 /
CALSCALE:GREGORIAN
METHOD:PUBLISH
UID:ad44739f-3ea7-43be-ae1c-36eb9a464467
X-WR-CALDESC:Those interested in becoming foster parents are required to at
 tend MAPP classes for certification.
X-WR-RELCALID:55ccb321e9ecaddf3c861b033ee272e6
X-WR-TIMEZONE:America/New_York
BEGIN:VTIMEZONE
TZID:America/New_York
BEGIN:STANDARD
TZNAME:EST
DTSTART:20201101T020000
TZOFFSETFROM:-0400
TZOFFSETTO:-0500
RDATE:20211107T020000
RDATE:20221106T020000
END:STANDARD
BEGIN:DAYLIGHT
TZNAME:EDT
DTSTART:20210314T020000
TZOFFSETFROM:-0500
TZOFFSETTO:-0400
RDATE:20220313T020000
END:DAYLIGHT
END:VTIMEZONE
BEGIN:VEVENT
UID:a989a7e5-1123-499e-aa26-307e7acc03f0
DTSTAMP:20260421T015514Z
DESCRIPTION:Those interested in becoming foster parents are required to att
 end MAPP classes for certification.
DTSTART;TZID=America/New_York:20210615T180000
DTEND;TZID=America/New_York:20210615T210000
LOCATION:
SUMMARY:Foster Care MAPP Class
END:VEVENT
END:VCALENDAR
