BEGIN:VCALENDAR
VERSION:2.0
PRODID:-//boysandgirlshomes.org//NONSGML kigkonsult.se iCalcreator 2.30.10/
 /
CALSCALE:GREGORIAN
METHOD:PUBLISH
UID:af40ea67-8485-4b6a-a259-a84762f4af1e
X-WR-CALDESC:Those interested in becoming foster parents are required to at
 tend MAPP classes for certification.
X-WR-RELCALID:054726c98c7439ce92f616feefcfcf64
X-WR-TIMEZONE:America/New_York
BEGIN:VTIMEZONE
TZID:America/New_York
BEGIN:STANDARD
TZNAME:EST
DTSTART:20201101T020000
TZOFFSETFROM:-0400
TZOFFSETTO:-0500
RDATE:20211107T020000
RDATE:20221106T020000
END:STANDARD
BEGIN:DAYLIGHT
TZNAME:EDT
DTSTART:20210314T020000
TZOFFSETFROM:-0500
TZOFFSETTO:-0400
RDATE:20220313T020000
END:DAYLIGHT
END:VTIMEZONE
BEGIN:VEVENT
UID:9cc77704-0b96-43df-92a8-34bdf0f8c78e
DTSTAMP:20260421T024319Z
DESCRIPTION:Those interested in becoming foster parents are required to att
 end MAPP classes for certification.
DTSTART;TZID=America/New_York:20210624T180000
DTEND;TZID=America/New_York:20210624T210000
LOCATION:
SUMMARY:Foster Care MAPP Class
END:VEVENT
END:VCALENDAR
