BEGIN:VCALENDAR
VERSION:2.0
PRODID:-//boysandgirlshomes.org//NONSGML kigkonsult.se iCalcreator 2.30.10/
 /
CALSCALE:GREGORIAN
METHOD:PUBLISH
UID:f749af43-c817-452d-9159-949f4103dfb3
X-WR-CALDESC:
X-WR-RELCALID:2cb43c4c74cd07fadd8777714b95269a
X-WR-TIMEZONE:America/New_York
BEGIN:VTIMEZONE
TZID:America/New_York
BEGIN:STANDARD
TZNAME:EST
DTSTART:20201101T020000
TZOFFSETFROM:-0400
TZOFFSETTO:-0500
RDATE:20211107T020000
RDATE:20221106T020000
END:STANDARD
BEGIN:DAYLIGHT
TZNAME:EDT
DTSTART:20210314T020000
TZOFFSETFROM:-0500
TZOFFSETTO:-0400
RDATE:20220313T020000
END:DAYLIGHT
END:VTIMEZONE
BEGIN:VEVENT
UID:7d419ac7-a234-4b63-9dc5-6c2b7581ffd5
DTSTAMP:20260421T014310Z
DESCRIPTION:
DTSTART;TZID=America/New_York:20210626T000000
DTEND;TZID=America/New_York:20210627T235900
LOCATION:B&GH Farm & Benton/BTS Arena & Exhibition Center
SUMMARY:Ultimate Trail Challenge
END:VEVENT
END:VCALENDAR
