BEGIN:VCALENDAR
VERSION:2.0
PRODID:-//boysandgirlshomes.org//NONSGML kigkonsult.se iCalcreator 2.30.10/
 /
CALSCALE:GREGORIAN
METHOD:PUBLISH
UID:843bef47-3ac0-4c2a-81ac-cb74602995ed
X-WR-CALDESC:Those interested in becoming foster parents are required to at
 tend MAPP classes for certification.
X-WR-RELCALID:e6e1f30d9a79e67c0adcfacb52fa9213
X-WR-TIMEZONE:America/New_York
BEGIN:VTIMEZONE
TZID:America/New_York
BEGIN:STANDARD
TZNAME:EST
DTSTART:20201101T020000
TZOFFSETFROM:-0400
TZOFFSETTO:-0500
RDATE:20211107T020000
RDATE:20221106T020000
END:STANDARD
BEGIN:DAYLIGHT
TZNAME:EDT
DTSTART:20210314T020000
TZOFFSETFROM:-0500
TZOFFSETTO:-0400
RDATE:20220313T020000
END:DAYLIGHT
END:VTIMEZONE
BEGIN:VEVENT
UID:104eca98-8e77-44e0-8fdf-62baf1e97051
DTSTAMP:20260421T014458Z
DESCRIPTION:Those interested in becoming foster parents are required to att
 end MAPP classes for certification.
DTSTART;TZID=America/New_York:20210629T180000
DTEND;TZID=America/New_York:20210629T210000
LOCATION:
SUMMARY:Foster Care MAPP Class
END:VEVENT
END:VCALENDAR
