BEGIN:VCALENDAR
VERSION:2.0
PRODID:-//boysandgirlshomes.org//NONSGML kigkonsult.se iCalcreator 2.30.10/
 /
CALSCALE:GREGORIAN
METHOD:PUBLISH
UID:14987352-a2b6-46cf-9055-1160155a3c2e
X-WR-CALDESC:Those interested in becoming foster parents are required to at
 tend MAPP classes for certification.
X-WR-RELCALID:d6497d8fad285e4c2ab61646ffbd2118
X-WR-TIMEZONE:America/New_York
BEGIN:VTIMEZONE
TZID:America/New_York
BEGIN:STANDARD
TZNAME:EST
DTSTART:20201101T020000
TZOFFSETFROM:-0400
TZOFFSETTO:-0500
RDATE:20211107T020000
RDATE:20221106T020000
END:STANDARD
BEGIN:DAYLIGHT
TZNAME:EDT
DTSTART:20210314T020000
TZOFFSETFROM:-0500
TZOFFSETTO:-0400
RDATE:20220313T020000
END:DAYLIGHT
END:VTIMEZONE
BEGIN:VEVENT
UID:c856c700-cddf-4bf1-b675-fc2ac4cec345
DTSTAMP:20260421T003928Z
DESCRIPTION:Those interested in becoming foster parents are required to att
 end MAPP classes for certification.
DTSTART;TZID=America/New_York:20210701T180000
DTEND;TZID=America/New_York:20210701T210000
LOCATION:
SUMMARY:Foster Care MAPP Class
END:VEVENT
END:VCALENDAR
