BEGIN:VCALENDAR
VERSION:2.0
PRODID:-//boysandgirlshomes.org//NONSGML kigkonsult.se iCalcreator 2.30.10/
 /
CALSCALE:GREGORIAN
METHOD:PUBLISH
UID:35d8c695-960d-493d-8b85-5a30d18535c4
X-WR-CALDESC:The weekly worship service in the Leamon Rogers Memorial Chape
 l led by the B&GH Praise & Worship Team.
X-WR-RELCALID:273642ee3aa30f9ce254b94169f03964
X-WR-TIMEZONE:America/New_York
BEGIN:VTIMEZONE
TZID:America/New_York
BEGIN:STANDARD
TZNAME:EST
DTSTART:20201101T020000
TZOFFSETFROM:-0400
TZOFFSETTO:-0500
RDATE:20211107T020000
RDATE:20221106T020000
END:STANDARD
BEGIN:DAYLIGHT
TZNAME:EDT
DTSTART:20210314T020000
TZOFFSETFROM:-0500
TZOFFSETTO:-0400
RDATE:20220313T020000
END:DAYLIGHT
END:VTIMEZONE
BEGIN:VEVENT
UID:e5948744-a77b-4716-8497-5cdb43fb7d59
DTSTAMP:20260421T004035Z
DESCRIPTION:The weekly worship service in the Leamon Rogers Memorial Chapel
  led by the B&GH Praise & Worship Team.
DTSTART;TZID=America/New_York:20210731T093000
DTEND;TZID=America/New_York:20210731T110000
LOCATION:Leamon Rogers Memorial Chapel
SUMMARY:Worship Service
END:VEVENT
END:VCALENDAR
