BEGIN:VCALENDAR
VERSION:2.0
PRODID:-//boysandgirlshomes.org//NONSGML kigkonsult.se iCalcreator 2.30.10/
 /
CALSCALE:GREGORIAN
METHOD:PUBLISH
UID:66dc8594-df57-416e-b5bd-0bb9b7abf57f
X-WR-CALDESC:The Thomas Academy Board will meet to discuss the Thomas Acade
 my educational experience.
X-WR-RELCALID:4e9f715efe476251d2c1ad58f894d66d
X-WR-TIMEZONE:America/New_York
BEGIN:VTIMEZONE
TZID:America/New_York
BEGIN:STANDARD
TZNAME:EST
DTSTART:20201101T020000
TZOFFSETFROM:-0400
TZOFFSETTO:-0500
RDATE:20211107T020000
RDATE:20221106T020000
END:STANDARD
BEGIN:DAYLIGHT
TZNAME:EDT
DTSTART:20210314T020000
TZOFFSETFROM:-0500
TZOFFSETTO:-0400
RDATE:20220313T020000
END:DAYLIGHT
END:VTIMEZONE
BEGIN:VEVENT
UID:4aace678-d009-40e3-a950-c6ae07bee79d
DTSTAMP:20260420T224548Z
DESCRIPTION:The Thomas Academy Board will meet to discuss the Thomas Academ
 y educational experience.
DTSTART;TZID=America/New_York:20210810T150000
DTEND;TZID=America/New_York:20210810T160000
LOCATION:
SUMMARY:Thomas Academy Board Meeting
END:VEVENT
END:VCALENDAR
