BEGIN:VCALENDAR
VERSION:2.0
PRODID:-//boysandgirlshomes.org//NONSGML kigkonsult.se iCalcreator 2.30.10/
 /
CALSCALE:GREGORIAN
METHOD:PUBLISH
UID:e9b22be2-362e-42d0-80df-b34c9d116ff1
X-WR-CALDESC:The Boys & Girls Homes Rodeo featuring a Southern Rodeo Associ
 ation sanctioned event provided by Thomas Linton Rodeo. Primary sponsorshi
 p support is provided by Old Dominion Freight Line and the Southeastern Go
 spel Music Association. Tickets will only be sold at the gates. General ad
 mission is $15\, military & first responders $12 with ID\, children 6 - 10
  $10 and children 5 & under are free. All proceeds benefit the children an
 d families of Boys and Girls Homes of North Carolina. Capacity is limited.
  Gates open at 6 p.m. and the event begins at 8 p.m.
X-WR-RELCALID:1e062021d7c88c5c132d0fccadff9094
X-WR-TIMEZONE:America/New_York
BEGIN:VTIMEZONE
TZID:America/New_York
BEGIN:STANDARD
TZNAME:EST
DTSTART:20201101T020000
TZOFFSETFROM:-0400
TZOFFSETTO:-0500
RDATE:20211107T020000
RDATE:20221106T020000
END:STANDARD
BEGIN:DAYLIGHT
TZNAME:EDT
DTSTART:20210314T020000
TZOFFSETFROM:-0500
TZOFFSETTO:-0400
RDATE:20220313T020000
END:DAYLIGHT
END:VTIMEZONE
BEGIN:VEVENT
UID:0eec956f-6e42-4ab1-b1a9-3d43de316808
DTSTAMP:20260420T225431Z
DESCRIPTION:The Boys & Girls Homes Rodeo featuring a Southern Rodeo Associa
 tion sanctioned event provided by Thomas Linton Rodeo. Primary sponsorship
  support is provided by Old Dominion Freight Line and the Southeastern Gos
 pel Music Association. Tickets will only be sold at the gates. General adm
 ission is $15\, military & first responders $12 with ID\, children 6 - 10 
 $10 and children 5 & under are free. All proceeds benefit the children and
  families of Boys and Girls Homes of North Carolina. Capacity is limited. 
 Gates open at 6 p.m. and the event begins at 8 p.m.
DTSTART;TZID=America/New_York:20210813T200000
DTEND;TZID=America/New_York:20210813T220000
LOCATION:B&GH Farm & Benton/BTS Arena & Exhibition Center
SUMMARY:Boys & Girls Homes Rodeo
END:VEVENT
END:VCALENDAR
