BEGIN:VCALENDAR
VERSION:2.0
PRODID:-//boysandgirlshomes.org//NONSGML kigkonsult.se iCalcreator 2.30.10/
 /
CALSCALE:GREGORIAN
METHOD:PUBLISH
UID:f465758a-abc0-45d6-9129-12cf80e81f5a
X-WR-CALDESC:This event is ticketed.
X-WR-RELCALID:863e70d13c4d74bf29ba5e9bd282cc1a
X-WR-TIMEZONE:America/New_York
BEGIN:VTIMEZONE
TZID:America/New_York
BEGIN:STANDARD
TZNAME:EST
DTSTART:20201101T020000
TZOFFSETFROM:-0400
TZOFFSETTO:-0500
RDATE:20211107T020000
RDATE:20221106T020000
END:STANDARD
BEGIN:DAYLIGHT
TZNAME:EDT
DTSTART:20210314T020000
TZOFFSETFROM:-0500
TZOFFSETTO:-0400
RDATE:20220313T020000
END:DAYLIGHT
END:VTIMEZONE
BEGIN:VEVENT
UID:ac060147-0f7c-4338-a865-b348a6336289
DTSTAMP:20260420T230414Z
DESCRIPTION:This event is ticketed.
DTSTART;TZID=America/New_York:20210827T000000
DTEND;TZID=America/New_York:20210829T235900
LOCATION:B&GH Farm & Benton/BTS Arena & Exhibition Center
SUMMARY:Everything Equine Expo ($)
END:VEVENT
END:VCALENDAR
