BEGIN:VCALENDAR
VERSION:2.0
PRODID:-//boysandgirlshomes.org//NONSGML kigkonsult.se iCalcreator 2.30.10/
 /
CALSCALE:GREGORIAN
METHOD:PUBLISH
UID:8177220e-4301-4cdb-8d19-2116bc81be83
X-WR-CALDESC:The Thomas Academy Board will meet to discuss educational issu
 es related to the public charter school.
X-WR-RELCALID:c4c4477bbc28fef0ce2a10c68cdfc780
X-WR-TIMEZONE:America/New_York
BEGIN:VTIMEZONE
TZID:America/New_York
BEGIN:STANDARD
TZNAME:EST
DTSTART:20201101T020000
TZOFFSETFROM:-0400
TZOFFSETTO:-0500
RDATE:20211107T020000
RDATE:20221106T020000
END:STANDARD
BEGIN:DAYLIGHT
TZNAME:EDT
DTSTART:20210314T020000
TZOFFSETFROM:-0500
TZOFFSETTO:-0400
RDATE:20220313T020000
RDATE:20230312T020000
END:DAYLIGHT
END:VTIMEZONE
BEGIN:VEVENT
UID:bf5c724c-5010-4f09-9b51-809911eb6973
DTSTAMP:20260420T213915Z
DESCRIPTION:The Thomas Academy Board will meet to discuss educational issue
 s related to the public charter school.
DTSTART;TZID=America/New_York:20210914T150000
DTEND;TZID=America/New_York:20210914T160000
LOCATION:
SUMMARY:Thomas Academy Board Meeting
END:VEVENT
END:VCALENDAR
