BEGIN:VCALENDAR
VERSION:2.0
PRODID:-//boysandgirlshomes.org//NONSGML kigkonsult.se iCalcreator 2.30.10/
 /
CALSCALE:GREGORIAN
METHOD:PUBLISH
UID:d907fcff-a897-4416-a52d-4d1f5d9ac2cc
X-WR-CALDESC:The Thomas Academy Board will meet to discuss educational conc
 erns for the public charter school
X-WR-RELCALID:e2196259df7043bd06428823434460dc
X-WR-TIMEZONE:America/New_York
BEGIN:VTIMEZONE
TZID:America/New_York
BEGIN:STANDARD
TZNAME:EST
DTSTART:20201101T020000
TZOFFSETFROM:-0400
TZOFFSETTO:-0500
RDATE:20211107T020000
RDATE:20221106T020000
END:STANDARD
BEGIN:DAYLIGHT
TZNAME:EDT
DTSTART:20210314T020000
TZOFFSETFROM:-0500
TZOFFSETTO:-0400
RDATE:20220313T020000
RDATE:20230312T020000
END:DAYLIGHT
END:VTIMEZONE
BEGIN:VEVENT
UID:4f234e27-2cd9-470d-a6f7-a7d570c112d0
DTSTAMP:20260420T195829Z
DESCRIPTION:The Thomas Academy Board will meet to discuss educational conce
 rns for the public charter school
DTSTART;TZID=America/New_York:20211012T150000
DTEND;TZID=America/New_York:20211012T160000
LOCATION:
SUMMARY:Thomas Academy Board Meeting
END:VEVENT
END:VCALENDAR
