BEGIN:VCALENDAR
VERSION:2.0
PRODID:-//boysandgirlshomes.org//NONSGML kigkonsult.se iCalcreator 2.30.10/
 /
CALSCALE:GREGORIAN
METHOD:PUBLISH
UID:f20e9893-ee0e-4a93-b412-306e812b4ed0
X-WR-CALDESC:The Boys & Girls Homes Board will meet to discuss the needs of
  the nonprofit organization.
X-WR-RELCALID:343a6d8ab421b050de7cb52e1b164598
X-WR-TIMEZONE:America/New_York
BEGIN:VTIMEZONE
TZID:America/New_York
BEGIN:STANDARD
TZNAME:EST
DTSTART:20201101T020000
TZOFFSETFROM:-0400
TZOFFSETTO:-0500
RDATE:20211107T020000
RDATE:20221106T020000
END:STANDARD
BEGIN:DAYLIGHT
TZNAME:EDT
DTSTART:20210314T020000
TZOFFSETFROM:-0500
TZOFFSETTO:-0400
RDATE:20220313T020000
RDATE:20230312T020000
END:DAYLIGHT
END:VTIMEZONE
BEGIN:VEVENT
UID:08d4da8f-29d0-4514-9351-34f7931b6859
DTSTAMP:20260420T195716Z
DESCRIPTION:The Boys & Girls Homes Board will meet to discuss the needs of 
 the nonprofit organization.
DTSTART;TZID=America/New_York:20211023T000000
DTEND;TZID=America/New_York:20211023T235900
LOCATION:
SUMMARY:B&GH Board Meeting
END:VEVENT
END:VCALENDAR
