BEGIN:VCALENDAR
VERSION:2.0
PRODID:-//boysandgirlshomes.org//NONSGML kigkonsult.se iCalcreator 2.30.10/
 /
CALSCALE:GREGORIAN
METHOD:PUBLISH
UID:f3303675-036f-413c-9921-ebe11eddb89d
X-WR-CALDESC:The Thomas Academy Board will meet to discuss educational conc
 erns for the public charter school
X-WR-RELCALID:b4bfe73bf0ea120759739a362df81658
X-WR-TIMEZONE:America/New_York
BEGIN:VTIMEZONE
TZID:America/New_York
BEGIN:STANDARD
TZNAME:EST
DTSTART:20211107T020000
TZOFFSETFROM:-0400
TZOFFSETTO:-0500
RDATE:20221106T020000
END:STANDARD
BEGIN:DAYLIGHT
TZNAME:EDT
DTSTART:20210314T020000
TZOFFSETFROM:-0500
TZOFFSETTO:-0400
RDATE:20220313T020000
RDATE:20230312T020000
END:DAYLIGHT
END:VTIMEZONE
BEGIN:VEVENT
UID:eaa3e5d3-12b6-45a3-8113-9ccba59c4c9d
DTSTAMP:20260420T184252Z
DESCRIPTION:The Thomas Academy Board will meet to discuss educational conce
 rns for the public charter school
DTSTART;TZID=America/New_York:20211109T150000
DTEND;TZID=America/New_York:20211109T160000
LOCATION:
SUMMARY:Thomas Academy Board Meeting
END:VEVENT
END:VCALENDAR
