BEGIN:VCALENDAR
VERSION:2.0
PRODID:-//boysandgirlshomes.org//NONSGML kigkonsult.se iCalcreator 2.30.10/
 /
CALSCALE:GREGORIAN
METHOD:PUBLISH
UID:ee927296-50af-4005-9c36-471833c0def4
X-WR-CALDESC:The weekly worship service in the Leamon Rogers Memorial Chape
 l led by the B&GH Praise & Worship Team.
X-WR-RELCALID:25a0c6ef0b1acab4aa26f2f143d15891
X-WR-TIMEZONE:America/New_York
BEGIN:VTIMEZONE
TZID:America/New_York
BEGIN:STANDARD
TZNAME:EST
DTSTART:20211107T020000
TZOFFSETFROM:-0400
TZOFFSETTO:-0500
RDATE:20221106T020000
END:STANDARD
BEGIN:DAYLIGHT
TZNAME:EDT
DTSTART:20210314T020000
TZOFFSETFROM:-0500
TZOFFSETTO:-0400
RDATE:20220313T020000
RDATE:20230312T020000
END:DAYLIGHT
END:VTIMEZONE
BEGIN:VEVENT
UID:e5213f5d-133d-4100-94da-afdac18b9a64
DTSTAMP:20260420T164526Z
DESCRIPTION:The weekly worship service in the Leamon Rogers Memorial Chapel
  led by the B&GH Praise & Worship Team.
DTSTART;TZID=America/New_York:20211211T093000
DTEND;TZID=America/New_York:20211211T110000
LOCATION:Leamon Rogers Memorial Chapel
SUMMARY:Worship Service
END:VEVENT
END:VCALENDAR
