BEGIN:VCALENDAR
VERSION:2.0
PRODID:-//boysandgirlshomes.org//NONSGML kigkonsult.se iCalcreator 2.30.10/
 /
CALSCALE:GREGORIAN
METHOD:PUBLISH
UID:3474afac-4e4e-4795-9229-71e7158afdd6
X-WR-CALDESC:The Thomas Academy board will meet to discuss educational conc
 erns for the public charter school.
X-WR-RELCALID:01e0311142d627123912d10e6d6d0bd0
X-WR-TIMEZONE:America/New_York
BEGIN:VTIMEZONE
TZID:America/New_York
BEGIN:STANDARD
TZNAME:EST
DTSTART:20211107T020000
TZOFFSETFROM:-0400
TZOFFSETTO:-0500
RDATE:20221106T020000
END:STANDARD
BEGIN:DAYLIGHT
TZNAME:EDT
DTSTART:20210314T020000
TZOFFSETFROM:-0500
TZOFFSETTO:-0400
RDATE:20220313T020000
RDATE:20230312T020000
END:DAYLIGHT
END:VTIMEZONE
BEGIN:VEVENT
UID:576be3dc-8886-44e1-a822-9e712e512e65
DTSTAMP:20260420T164755Z
DESCRIPTION:The Thomas Academy board will meet to discuss educational conce
 rns for the public charter school.
DTSTART;TZID=America/New_York:20211214T150000
DTEND;TZID=America/New_York:20211214T160000
LOCATION:
SUMMARY:Thomas Academy Board Meeting
END:VEVENT
END:VCALENDAR
