BEGIN:VCALENDAR
VERSION:2.0
PRODID:-//boysandgirlshomes.org//NONSGML kigkonsult.se iCalcreator 2.30.10/
 /
CALSCALE:GREGORIAN
METHOD:PUBLISH
UID:f4346e09-e070-42d2-8ede-4afd4bf3a3e2
X-WR-CALDESC:The weekly worship service in the Leamon Rogers Memorial Chape
 l led by the B&GH Praise & Worship Team.
X-WR-RELCALID:317da20ab0e19b8ad2954a885086b40c
X-WR-TIMEZONE:America/New_York
BEGIN:VTIMEZONE
TZID:America/New_York
BEGIN:STANDARD
TZNAME:EST
DTSTART:20211107T020000
TZOFFSETFROM:-0400
TZOFFSETTO:-0500
RDATE:20221106T020000
END:STANDARD
BEGIN:DAYLIGHT
TZNAME:EDT
DTSTART:20210314T020000
TZOFFSETFROM:-0500
TZOFFSETTO:-0400
RDATE:20220313T020000
RDATE:20230312T020000
END:DAYLIGHT
END:VTIMEZONE
BEGIN:VEVENT
UID:aae778ba-6363-4950-b8e5-3f985e1a80fe
DTSTAMP:20260420T140952Z
DESCRIPTION:The weekly worship service in the Leamon Rogers Memorial Chapel
  led by the B&GH Praise & Worship Team.
DTSTART;TZID=America/New_York:20220212T093000
DTEND;TZID=America/New_York:20220212T110000
LOCATION:Leamon Rogers Memorial Chapel
SUMMARY:Worship Service
END:VEVENT
END:VCALENDAR
