BEGIN:VCALENDAR
VERSION:2.0
PRODID:-//boysandgirlshomes.org//NONSGML kigkonsult.se iCalcreator 2.30.10/
 /
CALSCALE:GREGORIAN
METHOD:PUBLISH
UID:b0c8b9ee-dd25-40d6-8299-13987a48b376
X-WR-CALDESC:National Walking Horse Association horse show is breed specifi
 c.  Contestants gather to compete and earning points for year-end qualific
 ation to Nationals.
X-WR-RELCALID:06f60ba7d45dbfac8a15b55f4d5dd8fc
X-WR-TIMEZONE:America/New_York
BEGIN:VTIMEZONE
TZID:America/New_York
BEGIN:STANDARD
TZNAME:EST
DTSTART:20231105T020000
TZOFFSETFROM:-0400
TZOFFSETTO:-0500
RDATE:20241103T020000
RDATE:20251102T020000
END:STANDARD
BEGIN:DAYLIGHT
TZNAME:EDT
DTSTART:20240310T020000
TZOFFSETFROM:-0500
TZOFFSETTO:-0400
RDATE:20250309T020000
END:DAYLIGHT
END:VTIMEZONE
BEGIN:VEVENT
UID:d668ffca-7610-4f11-828e-855306c9b856
DTSTAMP:20260423T001014Z
DESCRIPTION:National Walking Horse Association horse show is breed specific
 .  Contestants gather to compete and earning points for year-end qualifica
 tion to Nationals.
DTSTART;TZID=America/New_York:20240810T060000
DTEND;TZID=America/New_York:20240811T060001
LOCATION:Bill Thompson Lane\, Lake Waccamaw\, NC 28450 US
SUMMARY:NWHA Horse Show
END:VEVENT
END:VCALENDAR
