BEGIN:VCALENDAR
VERSION:2.0
PRODID:-//boysandgirlshomes.org//NONSGML kigkonsult.se iCalcreator 2.30.10/
 /
CALSCALE:GREGORIAN
METHOD:PUBLISH
UID:b6dce46b-06e6-4db3-bcbf-157b0107377a
X-WR-CALDESC:
X-WR-RELCALID:671024550b1921faea850fc59e1edeea
X-WR-TIMEZONE:America/New_York
BEGIN:VTIMEZONE
TZID:America/New_York
BEGIN:STANDARD
TZNAME:EST
DTSTART:20231105T020000
TZOFFSETFROM:-0400
TZOFFSETTO:-0500
RDATE:20241103T020000
RDATE:20251102T020000
END:STANDARD
BEGIN:DAYLIGHT
TZNAME:EDT
DTSTART:20240310T020000
TZOFFSETFROM:-0500
TZOFFSETTO:-0400
RDATE:20250309T020000
RDATE:20260308T020000
END:DAYLIGHT
END:VTIMEZONE
BEGIN:VEVENT
UID:f88486ff-9249-4b1c-b867-5c82608db5bd
DTSTAMP:20260422T230059Z
DESCRIPTION:
DTSTART;TZID=America/New_York:20240920T060000
DTEND;TZID=America/New_York:20240921T060001
LOCATION:Bill Thompson Lane\, Lake Waccamaw\, NC 28450 US
SUMMARY:Mounted Shooting Clinic
END:VEVENT
END:VCALENDAR
