BEGIN:VCALENDAR
VERSION:2.0
PRODID:-//boysandgirlshomes.org//NONSGML kigkonsult.se iCalcreator 2.30.10/
 /
CALSCALE:GREGORIAN
METHOD:PUBLISH
UID:e1203f46-1a23-4710-b1a2-1f8292eb2510
X-WR-CALDESC:
X-WR-RELCALID:43a127aab04fed836df5e8ce06a2f92b
X-WR-TIMEZONE:America/New_York
BEGIN:VTIMEZONE
TZID:America/New_York
BEGIN:STANDARD
TZNAME:EST
DTSTART:20231105T020000
TZOFFSETFROM:-0400
TZOFFSETTO:-0500
RDATE:20241103T020000
RDATE:20251102T020000
END:STANDARD
BEGIN:DAYLIGHT
TZNAME:EDT
DTSTART:20240310T020000
TZOFFSETFROM:-0500
TZOFFSETTO:-0400
RDATE:20250309T020000
RDATE:20260308T020000
END:DAYLIGHT
END:VTIMEZONE
BEGIN:VEVENT
UID:3f54168d-f32f-462f-9f5a-1549848b4ae3
DTSTAMP:20260422T210435Z
DESCRIPTION:
DTSTART;TZID=America/New_York:20241012T060000
DTEND;TZID=America/New_York:20241012T060001
LOCATION:Bill Thompson Lane\, Lake Waccamaw\, NC 28450 US
SUMMARY:Wild Bill Game Show Series
END:VEVENT
END:VCALENDAR
