BEGIN:VCALENDAR
VERSION:2.0
PRODID:-//boysandgirlshomes.org//NONSGML kigkonsult.se iCalcreator 2.30.10/
 /
CALSCALE:GREGORIAN
METHOD:PUBLISH
UID:8fe11c31-b19e-49f6-9238-f8bc6da90585
X-WR-CALDESC:
X-WR-RELCALID:246eae937ec179e009985320885deabe
X-WR-TIMEZONE:America/New_York
BEGIN:VTIMEZONE
TZID:America/New_York
BEGIN:STANDARD
TZNAME:EST
DTSTART:20231105T020000
TZOFFSETFROM:-0400
TZOFFSETTO:-0500
RDATE:20241103T020000
RDATE:20251102T020000
END:STANDARD
BEGIN:DAYLIGHT
TZNAME:EDT
DTSTART:20240310T020000
TZOFFSETFROM:-0500
TZOFFSETTO:-0400
RDATE:20250309T020000
RDATE:20260308T020000
END:DAYLIGHT
END:VTIMEZONE
BEGIN:VEVENT
UID:92e7d51a-76b2-4363-b748-6600954d4d0b
DTSTAMP:20260424T083631Z
DESCRIPTION:
DTSTART;TZID=America/New_York:20241102T060000
DTEND;TZID=America/New_York:20241102T060001
LOCATION:400 Flemington Drive\, Lake Waccamaw\, NC 28450 US
SUMMARY:70th Anniversary Gala -- Boys & Girls Homes of NC
END:VEVENT
END:VCALENDAR
