BEGIN:VCALENDAR
VERSION:2.0
PRODID:-//boysandgirlshomes.org//NONSGML kigkonsult.se iCalcreator 2.30.10/
 /
CALSCALE:GREGORIAN
METHOD:PUBLISH
UID:25f81215-02e6-4d8d-b5eb-55c5627ece59
X-WR-CALDESC:
X-WR-RELCALID:62e59954e84b264ef40dd9ed66514b03
X-WR-TIMEZONE:America/New_York
BEGIN:VTIMEZONE
TZID:America/New_York
BEGIN:STANDARD
TZNAME:EST
DTSTART:20241103T020000
TZOFFSETFROM:-0400
TZOFFSETTO:-0500
RDATE:20251102T020000
END:STANDARD
BEGIN:DAYLIGHT
TZNAME:EDT
DTSTART:20240310T020000
TZOFFSETFROM:-0500
TZOFFSETTO:-0400
RDATE:20250309T020000
RDATE:20260308T020000
END:DAYLIGHT
END:VTIMEZONE
BEGIN:VEVENT
UID:e7d2c551-8f00-4c3f-8f51-aae4a7d81c68
DTSTAMP:20260422T194738Z
DESCRIPTION:
DTSTART;TZID=America/New_York:20241109T060000
DTEND;TZID=America/New_York:20241109T060001
LOCATION:Bill Thompson Lane\, Lake Waccamaw\, NC 28450 US
SUMMARY:Wild Bill Game Show Series
END:VEVENT
END:VCALENDAR
