BEGIN:VCALENDAR
VERSION:2.0
PRODID:-//boysandgirlshomes.org//NONSGML kigkonsult.se iCalcreator 2.30.10/
 /
CALSCALE:GREGORIAN
METHOD:PUBLISH
UID:dbca361d-ccc8-4ead-bfb1-e90c1dfa7ba6
X-WR-CALDESC:Mary Miller Jordan Clinic at the BGHNC Farm -- This is a priva
 te clinic for participants to practice and gain knowledge from an equine p
 rofessional clinician.  Mary is a well-known and respected horse trainer t
 hroughout the country.  She uses her herd of mustangs to teach and perform
  demos at multiple events every year.  Auditors are welcome.
X-WR-RELCALID:234552be62b73678f3cf173ae6b04cff
X-WR-TIMEZONE:America/New_York
BEGIN:VTIMEZONE
TZID:America/New_York
BEGIN:STANDARD
TZNAME:EST
DTSTART:20241103T020000
TZOFFSETFROM:-0400
TZOFFSETTO:-0500
RDATE:20251102T020000
END:STANDARD
BEGIN:DAYLIGHT
TZNAME:EDT
DTSTART:20240310T020000
TZOFFSETFROM:-0500
TZOFFSETTO:-0400
RDATE:20250309T020000
RDATE:20260308T020000
END:DAYLIGHT
END:VTIMEZONE
BEGIN:VEVENT
UID:e33f72cb-77d8-4a8b-8caf-8c40ac084d3d
DTSTAMP:20260422T193729Z
DESCRIPTION:Mary Miller Jordan Clinic at the BGHNC Farm -- This is a privat
 e clinic for participants to practice and gain knowledge from an equine pr
 ofessional clinician.  Mary is a well-known and respected horse trainer th
 roughout the country.  She uses her herd of mustangs to teach and perform 
 demos at multiple events every year.  Auditors are welcome.
DTSTART;TZID=America/New_York:20241116T060000
DTEND;TZID=America/New_York:20241116T060001
LOCATION:BGHNC Farm\, Bill Thompson Lane\, Lake Waccamaw\, NC 28450 US
SUMMARY:Mary Miller Jordan Clinic
END:VEVENT
END:VCALENDAR
